BEGIN:VCALENDAR
VERSION:2.0
PRODID:-//Builders Association of South Central Kentucky - ECPv6.15.12.2//NONSGML v1.0//EN
CALSCALE:GREGORIAN
METHOD:PUBLISH
X-ORIGINAL-URL:https://www.bascky.com
X-WR-CALDESC:Events for Builders Association of South Central Kentucky
REFRESH-INTERVAL;VALUE=DURATION:PT1H
X-Robots-Tag:noindex
X-PUBLISHED-TTL:PT1H
BEGIN:VTIMEZONE
TZID:America/Chicago
BEGIN:DAYLIGHT
TZOFFSETFROM:-0600
TZOFFSETTO:-0500
TZNAME:CDT
DTSTART:20220313T080000
END:DAYLIGHT
BEGIN:STANDARD
TZOFFSETFROM:-0500
TZOFFSETTO:-0600
TZNAME:CST
DTSTART:20221106T070000
END:STANDARD
BEGIN:DAYLIGHT
TZOFFSETFROM:-0600
TZOFFSETTO:-0500
TZNAME:CDT
DTSTART:20230312T080000
END:DAYLIGHT
BEGIN:STANDARD
TZOFFSETFROM:-0500
TZOFFSETTO:-0600
TZNAME:CST
DTSTART:20231105T070000
END:STANDARD
BEGIN:DAYLIGHT
TZOFFSETFROM:-0600
TZOFFSETTO:-0500
TZNAME:CDT
DTSTART:20240310T080000
END:DAYLIGHT
BEGIN:STANDARD
TZOFFSETFROM:-0500
TZOFFSETTO:-0600
TZNAME:CST
DTSTART:20241103T070000
END:STANDARD
BEGIN:DAYLIGHT
TZOFFSETFROM:-0600
TZOFFSETTO:-0500
TZNAME:CDT
DTSTART:20250309T080000
END:DAYLIGHT
BEGIN:STANDARD
TZOFFSETFROM:-0500
TZOFFSETTO:-0600
TZNAME:CST
DTSTART:20251102T070000
END:STANDARD
BEGIN:DAYLIGHT
TZOFFSETFROM:-0600
TZOFFSETTO:-0500
TZNAME:CDT
DTSTART:20260308T080000
END:DAYLIGHT
BEGIN:STANDARD
TZOFFSETFROM:-0500
TZOFFSETTO:-0600
TZNAME:CST
DTSTART:20261101T070000
END:STANDARD
BEGIN:DAYLIGHT
TZOFFSETFROM:-0600
TZOFFSETTO:-0500
TZNAME:CDT
DTSTART:20270314T080000
END:DAYLIGHT
BEGIN:STANDARD
TZOFFSETFROM:-0500
TZOFFSETTO:-0600
TZNAME:CST
DTSTART:20271107T070000
END:STANDARD
END:VTIMEZONE
BEGIN:VEVENT
DTSTART;TZID=America/Chicago:20260414T103000
DTEND;TZID=America/Chicago:20260414T113000
DTSTAMP:20260422T033336
CREATED:20260113T161505Z
LAST-MODIFIED:20260113T175242Z
UID:8476-1776162600-1776166200@www.bascky.com
SUMMARY:Board of Directors Meeting
DESCRIPTION:[vc_row][vc_column][vc_column_text css=””]Board Meeting starts at 10:30am.[/vc_column_text][/vc_column][/vc_row]
URL:https://www.bascky.com/event/board-of-directors-meeting-55/
LOCATION:Bowling Green Country Club\, 251 Beech Bend Road\, Bowling Green\, KY\, 42101\, United States
CATEGORIES:Board of Directors
END:VEVENT
BEGIN:VEVENT
DTSTART;TZID=America/Chicago:20260310T103000
DTEND;TZID=America/Chicago:20260310T113000
DTSTAMP:20260422T033336
CREATED:20260113T161407Z
LAST-MODIFIED:20260113T175123Z
UID:8475-1773138600-1773142200@www.bascky.com
SUMMARY:Board of Directors Meeting
DESCRIPTION:[vc_row][vc_column][vc_column_text css=””]Board Meeting starts at 10:30am.[/vc_column_text][/vc_column][/vc_row]
URL:https://www.bascky.com/event/board-of-directors-meeting-54/
LOCATION:Bowling Green Country Club\, 251 Beech Bend Road\, Bowling Green\, KY\, 42101\, United States
CATEGORIES:Board of Directors
END:VEVENT
BEGIN:VEVENT
DTSTART;TZID=America/Chicago:20260210T103000
DTEND;TZID=America/Chicago:20260210T113000
DTSTAMP:20260422T033336
CREATED:20260113T161318Z
LAST-MODIFIED:20260113T174919Z
UID:8474-1770719400-1770723000@www.bascky.com
SUMMARY:Board of Directors Meeting
DESCRIPTION:[vc_row][vc_column][vc_column_text css=””]Board Meeting starts at 10:30am.[/vc_column_text][/vc_column][/vc_row]
URL:https://www.bascky.com/event/board-of-directors-meeting-53/
LOCATION:Bowling Green Country Club\, 251 Beech Bend Road\, Bowling Green\, KY\, 42101\, United States
CATEGORIES:Board of Directors
END:VEVENT
BEGIN:VEVENT
DTSTART;TZID=America/Chicago:20251209T113000
DTEND;TZID=America/Chicago:20251209T123000
DTSTAMP:20260422T033336
CREATED:20241217T170501Z
LAST-MODIFIED:20251205T164123Z
UID:7774-1765279800-1765283400@www.bascky.com
SUMMARY:Board of Directors Meeting
DESCRIPTION:[vc_row][vc_column][vc_column_text]Board Meeting starts at 11:30am.[/vc_column_text][/vc_column][/vc_row]
URL:https://www.bascky.com/event/board-of-directors-meeting-52/
LOCATION:Association Office\, 859 Lovers Lane\, Bowling Green\, KY\, 42103
CATEGORIES:Board of Directors
END:VEVENT
BEGIN:VEVENT
DTSTART;TZID=America/Chicago:20251111T103000
DTEND;TZID=America/Chicago:20251111T113000
DTSTAMP:20260422T033336
CREATED:20241217T170430Z
LAST-MODIFIED:20241217T170430Z
UID:7773-1762857000-1762860600@www.bascky.com
SUMMARY:Board of Directors Meeting
DESCRIPTION:[vc_row][vc_column][vc_column_text]Meeting starts at 10:30am.[/vc_column_text][/vc_column][/vc_row]
URL:https://www.bascky.com/event/board-of-directors-meeting-51/
LOCATION:Bowling Green Country Club\, 251 Beech Bend Road\, Bowling Green\, KY\, 42101\, United States
CATEGORIES:Board of Directors
END:VEVENT
BEGIN:VEVENT
DTSTART;TZID=America/Chicago:20251014T103000
DTEND;TZID=America/Chicago:20251014T113000
DTSTAMP:20260422T033336
CREATED:20241217T170413Z
LAST-MODIFIED:20241217T170413Z
UID:7772-1760437800-1760441400@www.bascky.com
SUMMARY:Board of Directors Meeting
DESCRIPTION:[vc_row][vc_column][vc_column_text]Meeting starts at 10:30am.[/vc_column_text][/vc_column][/vc_row]
URL:https://www.bascky.com/event/board-of-directors-meeting-50/
LOCATION:Bowling Green Country Club\, 251 Beech Bend Road\, Bowling Green\, KY\, 42101\, United States
CATEGORIES:Board of Directors
END:VEVENT
BEGIN:VEVENT
DTSTART;TZID=America/Chicago:20250909T103000
DTEND;TZID=America/Chicago:20250909T113000
DTSTAMP:20260422T033336
CREATED:20241217T170352Z
LAST-MODIFIED:20241217T170352Z
UID:7771-1757413800-1757417400@www.bascky.com
SUMMARY:Board of Directors Meeting
DESCRIPTION:[vc_row][vc_column][vc_column_text]Meeting starts at 10:30am.[/vc_column_text][/vc_column][/vc_row]
URL:https://www.bascky.com/event/board-of-directors-meeting-49/
LOCATION:Bowling Green Country Club\, 251 Beech Bend Road\, Bowling Green\, KY\, 42101\, United States
CATEGORIES:Board of Directors
END:VEVENT
BEGIN:VEVENT
DTSTART;TZID=America/Chicago:20250812T103000
DTEND;TZID=America/Chicago:20250812T113000
DTSTAMP:20260422T033336
CREATED:20241217T170336Z
LAST-MODIFIED:20241217T170336Z
UID:7770-1754994600-1754998200@www.bascky.com
SUMMARY:Board of Directors Meeting
DESCRIPTION:[vc_row][vc_column][vc_column_text]Meeting starts at 10:30am.[/vc_column_text][/vc_column][/vc_row]
URL:https://www.bascky.com/event/board-of-directors-meeting-48/
LOCATION:Bowling Green Country Club\, 251 Beech Bend Road\, Bowling Green\, KY\, 42101\, United States
CATEGORIES:Board of Directors
END:VEVENT
BEGIN:VEVENT
DTSTART;TZID=America/Chicago:20250610T103000
DTEND;TZID=America/Chicago:20250610T113000
DTSTAMP:20260422T033336
CREATED:20241217T170315Z
LAST-MODIFIED:20241217T170315Z
UID:7769-1749551400-1749555000@www.bascky.com
SUMMARY:Board of Directors Meeting
DESCRIPTION:[vc_row][vc_column][vc_column_text]Meeting starts at 10:30am.[/vc_column_text][/vc_column][/vc_row]
URL:https://www.bascky.com/event/board-of-directors-meeting-47/
LOCATION:Bowling Green Country Club\, 251 Beech Bend Road\, Bowling Green\, KY\, 42101\, United States
CATEGORIES:Board of Directors
END:VEVENT
BEGIN:VEVENT
DTSTART;TZID=America/Chicago:20250513T103000
DTEND;TZID=America/Chicago:20250513T113000
DTSTAMP:20260422T033336
CREATED:20241217T170257Z
LAST-MODIFIED:20241217T170257Z
UID:7768-1747132200-1747135800@www.bascky.com
SUMMARY:Board of Directors Meeting
DESCRIPTION:[vc_row][vc_column][vc_column_text]Meeting starts at 10:30am.[/vc_column_text][/vc_column][/vc_row]
URL:https://www.bascky.com/event/board-of-directors-meeting-46/
LOCATION:Bowling Green Country Club\, 251 Beech Bend Road\, Bowling Green\, KY\, 42101\, United States
CATEGORIES:Board of Directors
END:VEVENT
BEGIN:VEVENT
DTSTART;TZID=America/Chicago:20250415T103000
DTEND;TZID=America/Chicago:20250415T113000
DTSTAMP:20260422T033336
CREATED:20241217T170239Z
LAST-MODIFIED:20241217T170239Z
UID:7767-1744713000-1744716600@www.bascky.com
SUMMARY:Board of Directors Meeting
DESCRIPTION:[vc_row][vc_column][vc_column_text]Meeting starts at 10:30am.[/vc_column_text][/vc_column][/vc_row]
URL:https://www.bascky.com/event/board-of-directors-meeting-45/
LOCATION:Bowling Green Country Club\, 251 Beech Bend Road\, Bowling Green\, KY\, 42101\, United States
CATEGORIES:Board of Directors
END:VEVENT
BEGIN:VEVENT
DTSTART;TZID=America/Chicago:20250311T103000
DTEND;TZID=America/Chicago:20250311T113000
DTSTAMP:20260422T033336
CREATED:20241217T170220Z
LAST-MODIFIED:20241217T170220Z
UID:7766-1741689000-1741692600@www.bascky.com
SUMMARY:Board of Directors Meeting
DESCRIPTION:[vc_row][vc_column][vc_column_text]Meeting starts at 10:30am.[/vc_column_text][/vc_column][/vc_row]
URL:https://www.bascky.com/event/board-of-directors-meeting-44/
LOCATION:Bowling Green Country Club\, 251 Beech Bend Road\, Bowling Green\, KY\, 42101\, United States
CATEGORIES:Board of Directors
END:VEVENT
BEGIN:VEVENT
DTSTART;TZID=America/Chicago:20250211T103000
DTEND;TZID=America/Chicago:20250211T113000
DTSTAMP:20260422T033336
CREATED:20241217T170159Z
LAST-MODIFIED:20241217T170159Z
UID:7765-1739269800-1739273400@www.bascky.com
SUMMARY:Board of Directors Meeting
DESCRIPTION:[vc_row][vc_column][vc_column_text]Meeting starts at 10:30am.[/vc_column_text][/vc_column][/vc_row]
URL:https://www.bascky.com/event/board-of-directors-meeting-43/
LOCATION:Bowling Green Country Club\, 251 Beech Bend Road\, Bowling Green\, KY\, 42101\, United States
CATEGORIES:Board of Directors
END:VEVENT
BEGIN:VEVENT
DTSTART;TZID=America/Chicago:20250114T113000
DTEND;TZID=America/Chicago:20250114T130000
DTSTAMP:20260422T033336
CREATED:20241217T164659Z
LAST-MODIFIED:20241217T164659Z
UID:7755-1736854200-1736859600@www.bascky.com
SUMMARY:Board of Directors Meeting
DESCRIPTION:[vc_row][vc_column][vc_column_text]Meeting starts at 11:30am.[/vc_column_text][/vc_column][/vc_row]
URL:https://www.bascky.com/event/board-of-directors-meeting-42/
LOCATION:Association Office\, 859 Lovers Lane\, Bowling Green\, KY\, 42103
CATEGORIES:Board of Directors
END:VEVENT
BEGIN:VEVENT
DTSTART;TZID=America/Chicago:20241112T103000
DTEND;TZID=America/Chicago:20241112T113000
DTSTAMP:20260422T033336
CREATED:20231116T165224Z
LAST-MODIFIED:20231116T165224Z
UID:6849-1731407400-1731411000@www.bascky.com
SUMMARY:Board of Directors Meeting
DESCRIPTION:[vc_row][vc_column][vc_column_text]Meeting starts at 10:30am.[/vc_column_text][/vc_column][/vc_row]
URL:https://www.bascky.com/event/board-of-directors-meeting-40/
LOCATION:Bowling Green Country Club\, 251 Beech Bend Road\, Bowling Green\, KY\, 42101\, United States
CATEGORIES:Board of Directors
END:VEVENT
BEGIN:VEVENT
DTSTART;TZID=America/Chicago:20240910T103000
DTEND;TZID=America/Chicago:20240910T113000
DTSTAMP:20260422T033336
CREATED:20231116T165137Z
LAST-MODIFIED:20231116T165137Z
UID:6848-1725964200-1725967800@www.bascky.com
SUMMARY:Board of Directors Meeting
DESCRIPTION:[vc_row][vc_column][vc_column_text]Meeting starts at 10:30am.[/vc_column_text][/vc_column][/vc_row]
URL:https://www.bascky.com/event/board-of-directors-meeting-39/
LOCATION:Bowling Green Country Club\, 251 Beech Bend Road\, Bowling Green\, KY\, 42101\, United States
CATEGORIES:Board of Directors
END:VEVENT
BEGIN:VEVENT
DTSTART;TZID=America/Chicago:20240813T103000
DTEND;TZID=America/Chicago:20240813T113000
DTSTAMP:20260422T033336
CREATED:20231116T165049Z
LAST-MODIFIED:20231116T165049Z
UID:6847-1723545000-1723548600@www.bascky.com
SUMMARY:Board of Directors Meeting
DESCRIPTION:[vc_row][vc_column][vc_column_text]Meeting starts at 10:30am.[/vc_column_text][/vc_column][/vc_row]
URL:https://www.bascky.com/event/board-of-directors-meeting-38/
LOCATION:Bowling Green Country Club\, 251 Beech Bend Road\, Bowling Green\, KY\, 42101\, United States
CATEGORIES:Board of Directors
END:VEVENT
BEGIN:VEVENT
DTSTART;TZID=America/Chicago:20240611T103000
DTEND;TZID=America/Chicago:20240611T113000
DTSTAMP:20260422T033336
CREATED:20231116T165002Z
LAST-MODIFIED:20231116T165002Z
UID:6846-1718101800-1718105400@www.bascky.com
SUMMARY:Board of Directors Meeting
DESCRIPTION:[vc_row][vc_column][vc_column_text]Meeting starts at 10:30am.[/vc_column_text][/vc_column][/vc_row]
URL:https://www.bascky.com/event/board-of-directors-meeting-37/
LOCATION:Bowling Green Country Club\, 251 Beech Bend Road\, Bowling Green\, KY\, 42101\, United States
CATEGORIES:Board of Directors
END:VEVENT
BEGIN:VEVENT
DTSTART;TZID=America/Chicago:20240514T103000
DTEND;TZID=America/Chicago:20240514T113000
DTSTAMP:20260422T033336
CREATED:20231116T164910Z
LAST-MODIFIED:20231116T164910Z
UID:6845-1715682600-1715686200@www.bascky.com
SUMMARY:Board of Directors Meeting
DESCRIPTION:[vc_row][vc_column][vc_column_text]Meeting starts at 10:30am.[/vc_column_text][/vc_column][/vc_row]
URL:https://www.bascky.com/event/board-of-directors-meeting-36/
LOCATION:Bowling Green Country Club\, 251 Beech Bend Road\, Bowling Green\, KY\, 42101\, United States
CATEGORIES:Board of Directors
END:VEVENT
BEGIN:VEVENT
DTSTART;TZID=America/Chicago:20240409T103000
DTEND;TZID=America/Chicago:20240409T113000
DTSTAMP:20260422T033336
CREATED:20231116T164802Z
LAST-MODIFIED:20231116T164802Z
UID:6844-1712658600-1712662200@www.bascky.com
SUMMARY:Board of Directors Meeting
DESCRIPTION:[vc_row][vc_column][vc_column_text]Meeting starts at 10:30am.[/vc_column_text][/vc_column][/vc_row]
URL:https://www.bascky.com/event/board-of-directors-meeting-35/
LOCATION:Bowling Green Country Club\, 251 Beech Bend Road\, Bowling Green\, KY\, 42101\, United States
CATEGORIES:Board of Directors
END:VEVENT
BEGIN:VEVENT
DTSTART;TZID=America/Chicago:20240312T103000
DTEND;TZID=America/Chicago:20240312T113000
DTSTAMP:20260422T033336
CREATED:20231116T164645Z
LAST-MODIFIED:20231116T164645Z
UID:6843-1710239400-1710243000@www.bascky.com
SUMMARY:Board of Directors Meeting
DESCRIPTION:[vc_row][vc_column][vc_column_text]Meeting starts at 10:30am.[/vc_column_text][/vc_column][/vc_row]
URL:https://www.bascky.com/event/board-of-directors-meeting-34/
LOCATION:Bowling Green Country Club\, 251 Beech Bend Road\, Bowling Green\, KY\, 42101\, United States
CATEGORIES:Board of Directors
END:VEVENT
BEGIN:VEVENT
DTSTART;TZID=America/Chicago:20240213T103000
DTEND;TZID=America/Chicago:20240213T113000
DTSTAMP:20260422T033336
CREATED:20231116T164543Z
LAST-MODIFIED:20231116T164543Z
UID:6842-1707820200-1707823800@www.bascky.com
SUMMARY:Board of Directors Meeting
DESCRIPTION:[vc_row][vc_column][vc_column_text]Meeting starts at 10:30am.[/vc_column_text][/vc_column][/vc_row]
URL:https://www.bascky.com/event/board-of-directors-meeting-33/
LOCATION:Bowling Green Country Club\, 251 Beech Bend Road\, Bowling Green\, KY\, 42101\, United States
CATEGORIES:Board of Directors
END:VEVENT
BEGIN:VEVENT
DTSTART;TZID=America/Chicago:20231207T113000
DTEND;TZID=America/Chicago:20231207T123000
DTSTAMP:20260422T033336
CREATED:20230112T175002Z
LAST-MODIFIED:20230112T175002Z
UID:6014-1701948600-1701952200@www.bascky.com
SUMMARY:Board of Directors Meeting
DESCRIPTION:[vc_row][vc_column][vc_column_text]Meeting starts at 11:30am.[/vc_column_text][/vc_column][/vc_row]
URL:https://www.bascky.com/event/board-of-directors-meeting-31/
LOCATION:Association Office\, 859 Lovers Lane\, Bowling Green\, KY\, 42103
CATEGORIES:Board of Directors
END:VEVENT
BEGIN:VEVENT
DTSTART;TZID=America/Chicago:20231102T103000
DTEND;TZID=America/Chicago:20231102T113000
DTSTAMP:20260422T033336
CREATED:20230112T174830Z
LAST-MODIFIED:20230112T174830Z
UID:6013-1698921000-1698924600@www.bascky.com
SUMMARY:Board of Directors Meeting
DESCRIPTION:[vc_row][vc_column][vc_column_text]Meeting starts at 10:30am.[/vc_column_text][/vc_column][/vc_row]
URL:https://www.bascky.com/event/board-of-directors-meeting-30/
LOCATION:Bowling Green Country Club\, 251 Beech Bend Road\, Bowling Green\, KY\, 42101\, United States
CATEGORIES:Board of Directors
END:VEVENT
BEGIN:VEVENT
DTSTART;TZID=America/Chicago:20231019T103000
DTEND;TZID=America/Chicago:20231019T113000
DTSTAMP:20260422T033336
CREATED:20230112T174749Z
LAST-MODIFIED:20230112T174749Z
UID:6012-1697711400-1697715000@www.bascky.com
SUMMARY:Board of Directors Meeting
DESCRIPTION:[vc_row][vc_column][vc_column_text]Meeting starts at 10:30am.[/vc_column_text][/vc_column][/vc_row]
URL:https://www.bascky.com/event/board-of-directors-meeting-29/
LOCATION:Bowling Green Country Club\, 251 Beech Bend Road\, Bowling Green\, KY\, 42101\, United States
CATEGORIES:Board of Directors
END:VEVENT
BEGIN:VEVENT
DTSTART;TZID=America/Chicago:20230907T103000
DTEND;TZID=America/Chicago:20230907T113000
DTSTAMP:20260422T033336
CREATED:20230112T174706Z
LAST-MODIFIED:20230112T174706Z
UID:6011-1694082600-1694086200@www.bascky.com
SUMMARY:Board of Directors Meeting
DESCRIPTION:[vc_row][vc_column][vc_column_text]Meeting starts at 10:30am.[/vc_column_text][/vc_column][/vc_row]
URL:https://www.bascky.com/event/board-of-directors-meeting-28/
LOCATION:Bowling Green Country Club\, 251 Beech Bend Road\, Bowling Green\, KY\, 42101\, United States
CATEGORIES:Board of Directors
END:VEVENT
BEGIN:VEVENT
DTSTART;TZID=America/Chicago:20230808T103000
DTEND;TZID=America/Chicago:20230808T113000
DTSTAMP:20260422T033336
CREATED:20230112T174627Z
LAST-MODIFIED:20230112T174627Z
UID:6010-1691490600-1691494200@www.bascky.com
SUMMARY:Board of Directors Meeting
DESCRIPTION:[vc_row][vc_column][vc_column_text]Meeting starts at 10:30am.[/vc_column_text][/vc_column][/vc_row]
URL:https://www.bascky.com/event/board-of-directors-meeting-27/
LOCATION:Bowling Green Country Club\, 251 Beech Bend Road\, Bowling Green\, KY\, 42101\, United States
CATEGORIES:Board of Directors
END:VEVENT
BEGIN:VEVENT
DTSTART;TZID=America/Chicago:20230606T103000
DTEND;TZID=America/Chicago:20230606T113000
DTSTAMP:20260422T033336
CREATED:20230112T174554Z
LAST-MODIFIED:20230112T174554Z
UID:6009-1686047400-1686051000@www.bascky.com
SUMMARY:Board of Directors Meeting
DESCRIPTION:[vc_row][vc_column][vc_column_text]Meeting starts at 10:30am.[/vc_column_text][/vc_column][/vc_row]
URL:https://www.bascky.com/event/board-of-directors-meeting-26/
LOCATION:Bowling Green Country Club\, 251 Beech Bend Road\, Bowling Green\, KY\, 42101\, United States
CATEGORIES:Board of Directors
END:VEVENT
BEGIN:VEVENT
DTSTART;TZID=America/Chicago:20230516T103000
DTEND;TZID=America/Chicago:20230516T113000
DTSTAMP:20260422T033336
CREATED:20230406T144714Z
LAST-MODIFIED:20230406T144714Z
UID:6235-1684233000-1684236600@www.bascky.com
SUMMARY:Board of Directors Meeting
DESCRIPTION:[vc_row][vc_column][vc_column_text]Meeting starts at 10:30am.[/vc_column_text][/vc_column][/vc_row]
URL:https://www.bascky.com/event/board-of-directors-meeting-32/
LOCATION:Bowling Green Country Club\, 251 Beech Bend Road\, Bowling Green\, KY\, 42101\, United States
CATEGORIES:Board of Directors
END:VEVENT
BEGIN:VEVENT
DTSTART;TZID=America/Chicago:20230418T103000
DTEND;TZID=America/Chicago:20230418T113000
DTSTAMP:20260422T033336
CREATED:20230112T174515Z
LAST-MODIFIED:20230112T174515Z
UID:6008-1681813800-1681817400@www.bascky.com
SUMMARY:Board of Directors Meeting
DESCRIPTION:[vc_row][vc_column][vc_column_text]Meeting starts at 10:30am.[/vc_column_text][/vc_column][/vc_row]
URL:https://www.bascky.com/event/board-of-directors-meeting-25/
LOCATION:Bowling Green Country Club\, 251 Beech Bend Road\, Bowling Green\, KY\, 42101\, United States
CATEGORIES:Board of Directors
END:VEVENT
END:VCALENDAR